BEGIN:VCALENDAR
PRODID:-//AT Content Types//AT Event//EN
VERSION:2.0
METHOD:PUBLISH
BEGIN:VEVENT
DTSTAMP:20231005T072443Z
CREATED:20110216T184237Z
UID:ATEvent-050fcbbc118390600a2ba6206ac88f2b
LAST-MODIFIED:20110522T152346Z
SUMMARY:Pure Data Convention 2011
DTSTART:20110808T080000Z
DTEND:20110814T145500Z
DESCRIPTION:4th international Pure Data Convention will take place in 
 Weimar\, Germany
LOCATION:Weimar
CATEGORIES:Convention
CONTACT:Max Neupert
URL:http://puredata.uni-weimar.de
CLASS:PUBLIC
END:VEVENT
END:VCALENDAR
